BEGIN:VCALENDAR
VERSION:2.0
PRODID:-//jEvents 2.0 for Joomla//EN
CALSCALE:GREGORIAN
METHOD:PUBLISH
BEGIN:VTIMEZONE
TZID:Europe/Berlin
BEGIN:STANDARD
DTSTART:20140220T000000
RDATE:20140330T030000
TZOFFSETFROM:+0200
TZOFFSETTO:+0100
TZNAME:Europe/Berlin CET
END:STANDARD
BEGIN:STANDARD
DTSTART:20141026T020000
RDATE:20150329T030000
TZOFFSETFROM:+0200
TZOFFSETTO:+0100
TZNAME:Europe/Berlin CET
END:STANDARD
BEGIN:STANDARD
DTSTART:20151025T020000
RDATE:20160327T030000
TZOFFSETFROM:+0200
TZOFFSETTO:+0100
TZNAME:Europe/Berlin CET
END:STANDARD
BEGIN:STANDARD
DTSTART:20161030T020000
RDATE:20170326T030000
TZOFFSETFROM:+0200
TZOFFSETTO:+0100
TZNAME:Europe/Berlin CET
END:STANDARD
BEGIN:STANDARD
DTSTART:20171029T020000
RDATE:20180325T030000
TZOFFSETFROM:+0200
TZOFFSETTO:+0100
TZNAME:Europe/Berlin CET
END:STANDARD
BEGIN:STANDARD
DTSTART:20181028T020000
RDATE:20190331T030000
TZOFFSETFROM:+0200
TZOFFSETTO:+0100
TZNAME:Europe/Berlin CET
END:STANDARD
BEGIN:STANDARD
DTSTART:20191027T020000
RDATE:20200329T030000
TZOFFSETFROM:+0200
TZOFFSETTO:+0100
TZNAME:Europe/Berlin CET
END:STANDARD
BEGIN:STANDARD
DTSTART:20201025T020000
RDATE:20210328T030000
TZOFFSETFROM:+0200
TZOFFSETTO:+0100
TZNAME:Europe/Berlin CET
END:STANDARD
BEGIN:DAYLIGHT
DTSTART:20140330T030000
RDATE:20141026T020000
TZOFFSETFROM:+0100
TZOFFSETTO:+0200
TZNAME:Europe/Berlin CEST
END:DAYLIGHT
BEGIN:DAYLIGHT
DTSTART:20150329T030000
RDATE:20151025T020000
TZOFFSETFROM:+0100
TZOFFSETTO:+0200
TZNAME:Europe/Berlin CEST
END:DAYLIGHT
BEGIN:DAYLIGHT
DTSTART:20160327T030000
RDATE:20161030T020000
TZOFFSETFROM:+0100
TZOFFSETTO:+0200
TZNAME:Europe/Berlin CEST
END:DAYLIGHT
BEGIN:DAYLIGHT
DTSTART:20170326T030000
RDATE:20171029T020000
TZOFFSETFROM:+0100
TZOFFSETTO:+0200
TZNAME:Europe/Berlin CEST
END:DAYLIGHT
BEGIN:DAYLIGHT
DTSTART:20180325T030000
RDATE:20181028T020000
TZOFFSETFROM:+0100
TZOFFSETTO:+0200
TZNAME:Europe/Berlin CEST
END:DAYLIGHT
BEGIN:DAYLIGHT
DTSTART:20190331T030000
RDATE:20191027T020000
TZOFFSETFROM:+0100
TZOFFSETTO:+0200
TZNAME:Europe/Berlin CEST
END:DAYLIGHT
BEGIN:DAYLIGHT
DTSTART:20200329T030000
RDATE:20201025T020000
TZOFFSETFROM:+0100
TZOFFSETTO:+0200
TZNAME:Europe/Berlin CEST
END:DAYLIGHT
END:VTIMEZONE
BEGIN:VEVENT
UID:c7cc4c1cc8505d7a50d35c572426c2e3
CATEGORIES:DEFAULT
CREATED:19700101T010000
SUMMARY:Geburtstag Bernd D.
DESCRIPTION:
DTSTAMP:20260420T114010
DTSTART;TZID=Europe/Berlin;VALUE=DATE:20150221
DTEND;TZID=Europe/Berlin;VALUE=DATE:20150222
SEQUENCE:0
RRULE:FREQ=YEARLY;COUNT=999;INTERVAL=1;BYYEARDAY=+52
TRANSP:OPAQUE
END:VEVENT
BEGIN:VEVENT
UID:c7cc4c1cc8505d7a50d35c572426c2e3
CATEGORIES:DEFAULT
CREATED:20140919T181350
SUMMARY:Geburtstag Bernd D.
LOCATION:Ranch
DESCRIPTION:Gefeiert wird auf Dieterles Ranch incl. Hüttensauna am 21.02.2017!\n \n
X-ALT-DESC;FMTTYPE=text/html:<p>Gefeiert wird auf Dieterles Ranch incl. Hüttensauna am 21.02.2017!</p><p
 >&nbsp;</p>
URL;VALUE=URI:https://www.speedy-muehlbachtal.de/verschiedenes/termine/icalrepeat.detail/
 2017/02/21/602/-/geburtstag-bernd-d.html?tmpl=component

DTSTAMP:20260420T114010
DTSTART;TZID=Europe/Berlin:20170221T000000
DTEND;TZID=Europe/Berlin:20170221T235959
RECURRENCE-ID;TZID=Europe/Berlin:20170221T000000
SEQUENCE:0
TRANSP:OPAQUE
END:VEVENT
END:VCALENDAR