BEGIN:VCALENDAR
VERSION:2.0
PRODID:-//jEvents 2.0 for Joomla//EN
CALSCALE:GREGORIAN
METHOD:PUBLISH
BEGIN:VTIMEZONE
TZID:Europe/Berlin
END:VTIMEZONE
BEGIN:VEVENT
UID:c7cc4c1cc8505d7a50d35c572426c2e3
CATEGORIES:DEFAULT
CREATED:20140919T181350
SUMMARY:Geburtstag Bernd D.
DESCRIPTION:
DTSTAMP:20260420T113740
DTSTART;TZID=Europe/Berlin;VALUE=DATE:20230221
DTEND;TZID=Europe/Berlin;VALUE=DATE:20230222
SEQUENCE:0
TRANSP:OPAQUE
END:VEVENT
END:VCALENDAR