BEGIN:VCALENDAR
VERSION:2.0
PRODID:-//jEvents 2.0 for Joomla//EN
CALSCALE:GREGORIAN
METHOD:PUBLISH
BEGIN:VTIMEZONE
TZID:Europe/Berlin
END:VTIMEZONE
BEGIN:VEVENT
UID:beca3f4e20f1f8f1570be66649167bc3
CATEGORIES:DEFAULT
CREATED:20180627T132916
SUMMARY:Geburtstag Klaus
DESCRIPTION:
DTSTAMP:20260419T161113
DTSTART;TZID=Europe/Berlin;VALUE=DATE:20250326
DTEND;TZID=Europe/Berlin;VALUE=DATE:20250327
SEQUENCE:0
TRANSP:OPAQUE
END:VEVENT
END:VCALENDAR